BEGIN:VCALENDAR
VERSION:2.0
PRODID:-//ICS Generator//NONSGML ICS Generator//DE
BEGIN:VEVENT
UID:1776672024982-gzbmegn?@ics-generator.de
DTSTAMP:20260420T080024Z
DTSTART:20261104T180000
DTEND:20261105T170000
SUMMARY:TW Strategy Summit 2026
LOCATION:Conference Center Dr. Rainer Wild Holding GmbH\,  Mittelgewannweg 10\, 69123 Heidelberg
BEGIN:VALARM
ACTION:DISPLAY
TRIGGER:-PT30M
DESCRIPTION:Reminder
END:VALARM
END:VEVENT
END:VCALENDAR
